BEGIN:VCALENDAR
VERSION:2.0
PRODID:-//Citizens Bank &amp; Trust - ECPv6.15.20//NONSGML v1.0//EN
CALSCALE:GREGORIAN
METHOD:PUBLISH
X-ORIGINAL-URL:https://www.citizens-bank.com
X-WR-CALDESC:Events for Citizens Bank &amp; Trust
REFRESH-INTERVAL;VALUE=DURATION:PT1H
X-Robots-Tag:noindex
X-PUBLISHED-TTL:PT1H
BEGIN:VTIMEZONE
TZID:America/New_York
BEGIN:DAYLIGHT
TZOFFSETFROM:-0500
TZOFFSETTO:-0400
TZNAME:EDT
DTSTART:20230312T070000
END:DAYLIGHT
BEGIN:STANDARD
TZOFFSETFROM:-0400
TZOFFSETTO:-0500
TZNAME:EST
DTSTART:20231105T060000
END:STANDARD
BEGIN:DAYLIGHT
TZOFFSETFROM:-0500
TZOFFSETTO:-0400
TZNAME:EDT
DTSTART:20240310T070000
END:DAYLIGHT
BEGIN:STANDARD
TZOFFSETFROM:-0400
TZOFFSETTO:-0500
TZNAME:EST
DTSTART:20241103T060000
END:STANDARD
BEGIN:DAYLIGHT
TZOFFSETFROM:-0500
TZOFFSETTO:-0400
TZNAME:EDT
DTSTART:20250309T070000
END:DAYLIGHT
BEGIN:STANDARD
TZOFFSETFROM:-0400
TZOFFSETTO:-0500
TZNAME:EST
DTSTART:20251102T060000
END:STANDARD
END:VTIMEZONE
BEGIN:VEVENT
DTSTART;TZID=America/New_York:20240104T080000
DTEND;TZID=America/New_York:20240104T170000
DTSTAMP:20260421T223254
CREATED:20240104T192809Z
LAST-MODIFIED:20240104T192816Z
UID:6352-1704355200-1704387600@www.citizens-bank.com
SUMMARY:Martin Luther King Day - Bank Closed
DESCRIPTION:
URL:https://www.citizens-bank.com/event/martin-luther-king-day-bank-closed-2/
END:VEVENT
BEGIN:VEVENT
DTSTART;TZID=America/New_York:20240117T114500
DTEND;TZID=America/New_York:20240117T130000
DTSTAMP:20260421T223254
CREATED:20240104T185619Z
LAST-MODIFIED:20240104T185638Z
UID:6340-1705491900-1705496400@www.citizens-bank.com
SUMMARY:Ft. Meade Chamber Luncheon
DESCRIPTION:
URL:https://www.citizens-bank.com/event/ft-meade-chamber-luncheon-3/
LOCATION:Ft. Meade Estates\, 1046 2nd St. SE\, Ft. Meade\, FL\, 33841\, United States
ORGANIZER;CN="FT. Meade Chamber":MAILTO:ftmeadechamber@yahoo.com
END:VEVENT
BEGIN:VEVENT
DTSTART;TZID=America/New_York:20240118T070000
DTEND;TZID=America/New_York:20240118T090000
DTSTAMP:20260421T223254
CREATED:20240104T185949Z
LAST-MODIFIED:20240104T190031Z
UID:6343-1705561200-1705568400@www.citizens-bank.com
SUMMARY:Lakeland Chamber of Commerce Economic Forecast
DESCRIPTION:
URL:https://www.citizens-bank.com/event/lakeland-chamber-of-commerce-economic-forecast/
LOCATION:RP Funding Center
ORGANIZER;CN="Lakeland Chamber of Commerce":MAILTO:info@lakelandchamber.com
END:VEVENT
BEGIN:VEVENT
DTSTART;TZID=America/New_York:20240120T180000
DTEND;TZID=America/New_York:20240120T220000
DTSTAMP:20260421T223254
CREATED:20240104T190603Z
LAST-MODIFIED:20240104T190618Z
UID:6345-1705773600-1705788000@www.citizens-bank.com
SUMMARY:Mulberry Chamber of Commerce Annual Dinner and Awards
DESCRIPTION:
URL:https://www.citizens-bank.com/event/mulberry-chamber-of-commerce-annual-dinner-and-awards/
LOCATION:Hilton Garden Inn\, 3839 Don Emerson Drive\, Lakeland\, FL\, 33811\, United States
END:VEVENT
BEGIN:VEVENT
DTSTART;TZID=America/New_York:20240123T180000
DTEND;TZID=America/New_York:20240123T210000
DTSTAMP:20260421T223254
CREATED:20240104T191401Z
LAST-MODIFIED:20240104T191417Z
UID:6347-1706032800-1706043600@www.citizens-bank.com
SUMMARY:Valrico / Fishhawk Chamber of Commerce Annual Dinner
DESCRIPTION:
URL:https://www.citizens-bank.com/event/valrico-fishhawk-chamber-of-commerce-annual-dinner/
LOCATION:The Regent\, 6437 Watson Rd\, River View\, FL\, 33578\, United States
END:VEVENT
BEGIN:VEVENT
DTSTART;TZID=America/New_York:20240127T180000
DTEND;TZID=America/New_York:20240127T210000
DTSTAMP:20260421T223254
CREATED:20240104T191657Z
LAST-MODIFIED:20240104T191703Z
UID:6350-1706378400-1706389200@www.citizens-bank.com
SUMMARY:Bartow Chamber of Commerce 2024 Annual Event
DESCRIPTION:
URL:https://www.citizens-bank.com/event/bartow-chamber-of-commerce-2024-annual-event/
LOCATION:Bartow Civic Center\, 22250 Floral Ave\, Bartow\, FL\, 33830\, United States
END:VEVENT
END:VCALENDAR