BEGIN:VCALENDAR
VERSION:2.0
PRODID:-//Citizens Bank &amp; Trust - ECPv6.15.20//NONSGML v1.0//EN
CALSCALE:GREGORIAN
METHOD:PUBLISH
X-ORIGINAL-URL:https://www.citizens-bank.com
X-WR-CALDESC:Events for Citizens Bank &amp; Trust
REFRESH-INTERVAL;VALUE=DURATION:PT1H
X-Robots-Tag:noindex
X-PUBLISHED-TTL:PT1H
BEGIN:VTIMEZONE
TZID:America/New_York
BEGIN:DAYLIGHT
TZOFFSETFROM:-0500
TZOFFSETTO:-0400
TZNAME:EDT
DTSTART:20230312T070000
END:DAYLIGHT
BEGIN:STANDARD
TZOFFSETFROM:-0400
TZOFFSETTO:-0500
TZNAME:EST
DTSTART:20231105T060000
END:STANDARD
BEGIN:DAYLIGHT
TZOFFSETFROM:-0500
TZOFFSETTO:-0400
TZNAME:EDT
DTSTART:20240310T070000
END:DAYLIGHT
BEGIN:STANDARD
TZOFFSETFROM:-0400
TZOFFSETTO:-0500
TZNAME:EST
DTSTART:20241103T060000
END:STANDARD
BEGIN:DAYLIGHT
TZOFFSETFROM:-0500
TZOFFSETTO:-0400
TZNAME:EDT
DTSTART:20250309T070000
END:DAYLIGHT
BEGIN:STANDARD
TZOFFSETFROM:-0400
TZOFFSETTO:-0500
TZNAME:EST
DTSTART:20251102T060000
END:STANDARD
END:VTIMEZONE
BEGIN:VEVENT
DTSTART;TZID=America/New_York:20240406T070000
DTEND;TZID=America/New_York:20240406T130000
DTSTAMP:20260424T200313
CREATED:20240228T180541Z
LAST-MODIFIED:20240228T180706Z
UID:6431-1712386800-1712408400@www.citizens-bank.com
SUMMARY:2024 Celebrity Golf Tournament\, Mr. Herbert Dixon's Scholarships for Students\, 4-man scramble
DESCRIPTION:
URL:https://www.citizens-bank.com/event/2024-celebrity-golf-tournament-mr-herbert-dixons-scholarships-for-students-4-man-scramble/
LOCATION:Bartow Golf Course\, 190 Idlewood Ave S\, Bartow\, FL\, United States
END:VEVENT
END:VCALENDAR